BEGIN:VCALENDAR
VERSION:2.0
PRODID:-//Motorhobel - ECPv6.8.3//NONSGML v1.0//EN
CALSCALE:GREGORIAN
METHOD:PUBLISH
X-ORIGINAL-URL:https://motorhobel.de
X-WR-CALDESC:Veranstaltungen für Motorhobel
REFRESH-INTERVAL;VALUE=DURATION:PT1H
X-Robots-Tag:noindex
X-PUBLISHED-TTL:PT1H
BEGIN:VTIMEZONE
TZID:UTC
BEGIN:STANDARD
TZOFFSETFROM:+0000
TZOFFSETTO:+0000
TZNAME:UTC
DTSTART:20240101T000000
END:STANDARD
END:VTIMEZONE
BEGIN:VEVENT
DTSTART;VALUE=DATE:20240112
DTEND;VALUE=DATE:20240114
DTSTAMP:20260422T210935
CREATED:20230209T192807Z
LAST-MODIFIED:20240112T092753Z
UID:9939-1705017600-1705190399@motorhobel.de
SUMMARY:!Ausgebucht! A1 - Kaiserslautern - Januar 2024
DESCRIPTION:Der Veranstaltungsort für die Praxiseinheit kann ggf. in einem Umkreis von bis zu 30km um die angegebene Lokalität stattfinden. Der Treffpunkt sowie die Abfahrtbeschreibung wird im Rahmen der Theorieeinheit besprochen. \n 
URL:https://motorhobel.de/event/a1-kaiserslautern-januar-2024/
LOCATION:Kaiserslautern\, 66892
CATEGORIES:A1,Kaiserslautern
ATTACH;FMTTYPE=image/jpeg:https://motorhobel.de/wp-content/uploads/2023/02/Kurs-belegt.jpg
END:VEVENT
BEGIN:VEVENT
DTSTART;VALUE=DATE:20240112
DTEND;VALUE=DATE:20240114
DTSTAMP:20260422T210935
CREATED:20230209T193309Z
LAST-MODIFIED:20240112T093016Z
UID:9946-1705017600-1705190399@motorhobel.de
SUMMARY:!Ausgebucht! A1 - Homburg - Januar 2024
DESCRIPTION:Der Veranstaltungsort für die Praxiseinheit kann ggf. in einem Umkreis von bis zu 30km um die angegebene Lokalität stattfinden. Der Treffpunkt sowie die Abfahrtbeschreibung wird im Rahmen der Theorieeinheit besprochen. \n 
URL:https://motorhobel.de/event/a1-homburg-januar-2024/
LOCATION:Homburg\, 66424
CATEGORIES:A1,Homburg
ATTACH;FMTTYPE=image/jpeg:https://motorhobel.de/wp-content/uploads/2023/02/Kurs-belegt.jpg
END:VEVENT
END:VCALENDAR