BEGIN:VCALENDAR
VERSION:2.0
PRODID:-//Motorhobel - ECPv6.8.3//NONSGML v1.0//EN
CALSCALE:GREGORIAN
METHOD:PUBLISH
X-WR-CALNAME:Motorhobel
X-ORIGINAL-URL:https://motorhobel.de
X-WR-CALDESC:Veranstaltungen für Motorhobel
REFRESH-INTERVAL;VALUE=DURATION:PT1H
X-Robots-Tag:noindex
X-PUBLISHED-TTL:PT1H
BEGIN:VTIMEZONE
TZID:UTC
BEGIN:STANDARD
TZOFFSETFROM:+0000
TZOFFSETTO:+0000
TZNAME:UTC
DTSTART:20240101T000000
END:STANDARD
END:VTIMEZONE
BEGIN:VEVENT
DTSTART;VALUE=DATE:20240209
DTEND;VALUE=DATE:20240211
DTSTAMP:20260422T193049
CREATED:20230209T193529Z
LAST-MODIFIED:20240403T114250Z
UID:9948-1707436800-1707609599@motorhobel.de
SUMMARY:!Ausgebucht! / A1 - Flörsheim - Februar 2024
DESCRIPTION:Der Veranstaltungsort für die Praxiseinheit kann ggf. in einem Umkreis von bis zu 30km um die angegebene Lokalität stattfinden. Der Treffpunkt sowie die Abfahrtbeschreibung wird im Rahmen der Theorieeinheit besprochen. \n 
URL:https://motorhobel.de/event/a1-floersheim-februar-2024/
LOCATION:Flörsheim\, 65439
CATEGORIES:A1,Flörsheim
ATTACH;FMTTYPE=image/png:https://motorhobel.de/wp-content/uploads/2024/04/MZ-WIESBADEN.png
END:VEVENT
BEGIN:VEVENT
DTSTART;VALUE=DATE:20240209
DTEND;VALUE=DATE:20240211
DTSTAMP:20260422T193049
CREATED:20230209T193933Z
LAST-MODIFIED:20240403T114150Z
UID:9956-1707436800-1707609599@motorhobel.de
SUMMARY:!Ausgebucht! / A1 - Mainz - Februar 2024
DESCRIPTION:Der Veranstaltungsort für die Praxiseinheit kann ggf. in einem Umkreis von bis zu 30km um die angegebene Lokalität stattfinden. Der Treffpunkt sowie die Abfahrtbeschreibung wird im Rahmen der Theorieeinheit besprochen. \n 
URL:https://motorhobel.de/event/a1-mainz-februar-2024/
LOCATION:Mainz\, 55116
CATEGORIES:A1,Mainz
END:VEVENT
END:VCALENDAR