BEGIN:VCALENDAR
VERSION:2.0
PRODID:-//Motorhobel - ECPv6.8.3//NONSGML v1.0//EN
CALSCALE:GREGORIAN
METHOD:PUBLISH
X-ORIGINAL-URL:https://motorhobel.de
X-WR-CALDESC:Veranstaltungen für Motorhobel
REFRESH-INTERVAL;VALUE=DURATION:PT1H
X-Robots-Tag:noindex
X-PUBLISHED-TTL:PT1H
BEGIN:VTIMEZONE
TZID:UTC
BEGIN:STANDARD
TZOFFSETFROM:+0000
TZOFFSETTO:+0000
TZNAME:UTC
DTSTART:20250101T000000
END:STANDARD
END:VTIMEZONE
BEGIN:VEVENT
DTSTART;VALUE=DATE:20250110
DTEND;VALUE=DATE:20250112
DTSTAMP:20260422T003453
CREATED:20230209T195027Z
LAST-MODIFIED:20250118T095503Z
UID:9968-1736467200-1736639999@motorhobel.de
SUMMARY:!Ausgebucht! A2 - Kaiserslautern-Waldmohr - Januar 2025
DESCRIPTION:Der Veranstaltungsort für die Praxiseinheit kann ggf. in einem Umkreis von bis zu 30km um die angegebene Lokalität stattfinden. Der Treffpunkt sowie die Abfahrtbeschreibung wird im Rahmen der Theorieeinheit besprochen. \n 
URL:https://motorhobel.de/event/a1-worms-maerz-2024/
LOCATION:Worms\, Worms\, 67547\, Deutschland
CATEGORIES:A2,Kaiserslautern
ATTACH;FMTTYPE=image/png:https://motorhobel.de/wp-content/uploads/2024/04/KL-WALDMOHR.png
END:VEVENT
END:VCALENDAR