BEGIN:VCALENDAR
VERSION:2.0
PRODID:-//Motorhobel - ECPv6.8.3//NONSGML v1.0//EN
CALSCALE:GREGORIAN
METHOD:PUBLISH
X-ORIGINAL-URL:https://motorhobel.de
X-WR-CALDESC:Veranstaltungen für Motorhobel
REFRESH-INTERVAL;VALUE=DURATION:PT1H
X-Robots-Tag:noindex
X-PUBLISHED-TTL:PT1H
BEGIN:VTIMEZONE
TZID:UTC
BEGIN:STANDARD
TZOFFSETFROM:+0000
TZOFFSETTO:+0000
TZNAME:UTC
DTSTART:20250101T000000
END:STANDARD
END:VTIMEZONE
BEGIN:VEVENT
DTSTART;VALUE=DATE:20250221
DTEND;VALUE=DATE:20250223
DTSTAMP:20260421T225440
CREATED:20240108T143524Z
LAST-MODIFIED:20250213T143603Z
UID:10539-1740096000-1740268799@motorhobel.de
SUMMARY:!Ausgebucht! A1 - Bereich Heidenrod - Februar 2025
DESCRIPTION:Der Veranstaltungsort für die Praxiseinheit kann ggf. in einem Umkreis von bis zu 20km um die angegebene Lokalität stattfinden. Der Treffpunkt sowie die Abfahrtbeschreibung wird im Rahmen der Theorieeinheit besprochen. Wir übermitteln ihnen gerne weitere Informationen zum Ablauf unserer Kurse\, bitten nutzen sie dazu unser Kontaktformular\, wir werden ihnen umgehend antworten.
URL:https://motorhobel.de/event/a1-bereich-heidenrod-februar-2025/
LOCATION:Heidenrod\, 65321
CATEGORIES:A1,Bad Camberg,Heidenrod,Idstein
ATTACH;FMTTYPE=image/png:https://motorhobel.de/wp-content/uploads/2024/04/HEIDENROD.png
END:VEVENT
END:VCALENDAR