BEGIN:VCALENDAR
VERSION:2.0
PRODID:-//Motorhobel - ECPv6.8.3//NONSGML v1.0//EN
CALSCALE:GREGORIAN
METHOD:PUBLISH
X-ORIGINAL-URL:https://motorhobel.de
X-WR-CALDESC:Veranstaltungen für Motorhobel
REFRESH-INTERVAL;VALUE=DURATION:PT1H
X-Robots-Tag:noindex
X-PUBLISHED-TTL:PT1H
BEGIN:VTIMEZONE
TZID:UTC
BEGIN:STANDARD
TZOFFSETFROM:+0000
TZOFFSETTO:+0000
TZNAME:UTC
DTSTART:20230101T000000
END:STANDARD
END:VTIMEZONE
BEGIN:VEVENT
DTSTART;VALUE=DATE:20230922
DTEND;VALUE=DATE:20230924
DTSTAMP:20260423T021743
CREATED:20230209T185942Z
LAST-MODIFIED:20230910T110439Z
UID:9903-1695340800-1695513599@motorhobel.de
SUMMARY:1 Platz frei ! / A1 - Bobenheim-Roxheim - September 2023
DESCRIPTION:Der Veranstaltungsort für die Praxiseinheit kann ggf. in einem Umkreis von bis zu 30km um die angegebene Lokalität stattfinden. Der Treffpunkt sowie die Abfahrtbeschreibung wird im Rahmen der Theorieeinheit besprochen.
URL:https://motorhobel.de/event/a1-bobenheim-roxheim-september-2023/
LOCATION:Bobenheim-Roxheim\, 67240
CATEGORIES:A1,Bobenheim-Roxheim
ATTACH;FMTTYPE=image/png:https://motorhobel.de/wp-content/uploads/2020/07/motorhobel.png
END:VEVENT
BEGIN:VEVENT
DTSTART;VALUE=DATE:20230922
DTEND;VALUE=DATE:20230924
DTSTAMP:20260423T021743
CREATED:20230209T190457Z
LAST-MODIFIED:20230910T110353Z
UID:9908-1695340800-1695513599@motorhobel.de
SUMMARY:1 Platz frei ! / A1 - Worms - September 2023
DESCRIPTION:Der Veranstaltungsort für die Praxiseinheit kann ggf. in einem Umkreis von bis zu 30km um die angegebene Lokalität stattfinden. Der Treffpunkt sowie die Abfahrtbeschreibung wird im Rahmen der Theorieeinheit besprochen.
URL:https://motorhobel.de/event/a1-worms-september-2023/
LOCATION:Worms\, Worms\, 67547\, Deutschland
CATEGORIES:A1,Worms
ATTACH;FMTTYPE=image/png:https://motorhobel.de/wp-content/uploads/2020/07/motorhobel.png
END:VEVENT
END:VCALENDAR