BEGIN:VCALENDAR
VERSION:2.0
PRODID:-//Motorhobel - ECPv6.8.3//NONSGML v1.0//EN
CALSCALE:GREGORIAN
METHOD:PUBLISH
X-WR-CALNAME:Motorhobel
X-ORIGINAL-URL:https://motorhobel.de
X-WR-CALDESC:Veranstaltungen für Motorhobel
REFRESH-INTERVAL;VALUE=DURATION:PT1H
X-Robots-Tag:noindex
X-PUBLISHED-TTL:PT1H
BEGIN:VTIMEZONE
TZID:UTC
BEGIN:STANDARD
TZOFFSETFROM:+0000
TZOFFSETTO:+0000
TZNAME:UTC
DTSTART:20230101T000000
END:STANDARD
END:VTIMEZONE
BEGIN:VEVENT
DTSTART;VALUE=DATE:20231006
DTEND;VALUE=DATE:20231008
DTSTAMP:20260423T004238
CREATED:20230209T190619Z
LAST-MODIFIED:20230927T144603Z
UID:9910-1696550400-1696723199@motorhobel.de
SUMMARY:Ausgebucht / A1 - Kaiserslautern - Oktober 2023
DESCRIPTION:Der Veranstaltungsort für die Praxiseinheit kann ggf. in einem Umkreis von bis zu 30km um die angegebene Lokalität stattfinden. Der Treffpunkt sowie die Abfahrtbeschreibung wird im Rahmen der Theorieeinheit besprochen.
URL:https://motorhobel.de/event/a1-kaiserslautern-oktober-2023/
LOCATION:Kaiserslautern\, 66892
CATEGORIES:A1,Kaiserslautern
ATTACH;FMTTYPE=image/png:https://motorhobel.de/wp-content/uploads/2020/07/motorhobel.png
END:VEVENT
BEGIN:VEVENT
DTSTART;VALUE=DATE:20231006
DTEND;VALUE=DATE:20231008
DTSTAMP:20260423T004238
CREATED:20230209T190828Z
LAST-MODIFIED:20230927T144508Z
UID:9912-1696550400-1696723199@motorhobel.de
SUMMARY:Ausgebucht / A1 - Homburg - Oktober 2023
DESCRIPTION:Der Veranstaltungsort für die Praxiseinheit kann ggf. in einem Umkreis von bis zu 30km um die angegebene Lokalität stattfinden. Der Treffpunkt sowie die Abfahrtbeschreibung wird im Rahmen der Theorieeinheit besprochen.
URL:https://motorhobel.de/event/a1-homburg-oktober-2023/
LOCATION:Homburg\, 66424
CATEGORIES:A1,Homburg
ATTACH;FMTTYPE=image/png:https://motorhobel.de/wp-content/uploads/2020/07/motorhobel.png
END:VEVENT
BEGIN:VEVENT
DTSTART;VALUE=DATE:20231027
DTEND;VALUE=DATE:20231029
DTSTAMP:20260423T004238
CREATED:20230209T191000Z
LAST-MODIFIED:20231010T105036Z
UID:9915-1698364800-1698537599@motorhobel.de
SUMMARY:noch 2 freie Plätze / A1 - Hockenheim - Oktober 2023
DESCRIPTION:Der Veranstaltungsort für die Praxiseinheit kann ggf. in einem Umkreis von bis zu 30km um die angegebene Lokalität stattfinden. Der Treffpunkt sowie die Abfahrtbeschreibung wird im Rahmen der Theorieeinheit besprochen.
URL:https://motorhobel.de/event/a1-hockenheim-oktober-2023/
LOCATION:Hockenheim\, Hockenheim\, 68766\, Deutschland
CATEGORIES:A1,Hockenheim
ATTACH;FMTTYPE=image/png:https://motorhobel.de/wp-content/uploads/2020/07/motorhobel.png
END:VEVENT
BEGIN:VEVENT
DTSTART;VALUE=DATE:20231027
DTEND;VALUE=DATE:20231029
DTSTAMP:20260423T004238
CREATED:20230209T191246Z
LAST-MODIFIED:20231013T082256Z
UID:9917-1698364800-1698537599@motorhobel.de
SUMMARY:Ausgebucht! / A1 - Heidelberg - Oktober 2023
DESCRIPTION:Der Veranstaltungsort für die Praxiseinheit kann ggf. in einem Umkreis von bis zu 30km um die angegebene Lokalität stattfinden. Der Treffpunkt sowie die Abfahrtbeschreibung wird im Rahmen der Theorieeinheit besprochen.
URL:https://motorhobel.de/event/a1-heidelberg-oktober-2023/
LOCATION:Heidelberg\, 69117
CATEGORIES:A1,Heidelberg
ATTACH;FMTTYPE=image/png:https://motorhobel.de/wp-content/uploads/2020/07/motorhobel.png
END:VEVENT
BEGIN:VEVENT
DTSTART;VALUE=DATE:20231027
DTEND;VALUE=DATE:20231029
DTSTAMP:20260423T004238
CREATED:20230209T191410Z
LAST-MODIFIED:20231013T082100Z
UID:9920-1698364800-1698537599@motorhobel.de
SUMMARY:Ausgebucht! / A1 - Speyer - Oktober 2023
DESCRIPTION:Der Veranstaltungsort für die Praxiseinheit kann ggf. in einem Umkreis von bis zu 30km um die angegebene Lokalität stattfinden. Der Treffpunkt sowie die Abfahrtbeschreibung wird im Rahmen der Theorieeinheit besprochen. \n 
URL:https://motorhobel.de/event/a1-speyer-oktober-2023/
LOCATION:Speyer\, 67346
CATEGORIES:A1,Speyer
ATTACH;FMTTYPE=image/png:https://motorhobel.de/wp-content/uploads/2020/07/motorhobel.png
END:VEVENT
END:VCALENDAR